BEGIN:VCALENDAR
VERSION:2.0
METHOD:PUBLISH
PRODID::-//Obvius//NONSGML ICal//DA
BEGIN:VEVENT
UID:4620759@www.math.ku.dk
DESCRIPTION:You are all invited to join the celebration and attend Christi
 an Furrer’s final appraisal. At approx 16:00 the Department will serve 
 sparkling wine in the south end of Vandrehallen.\n\nhttps://www.math.ku.dk
 /english/calendar/events/final-appraisal-christian-furrer/
SUMMARY:Final appraisal: Christian Furrer
CATEGORIES:Foredrag
LOCATION:AUD 4
ORGANIZER:MATH
DTSTART:20240117T122000Z
DTSTAMP:20240117T122000Z
DTEND:20240117T153000Z
END:VEVENT
END:VCALENDAR
