BEGIN:VCALENDAR
VERSION:2.0
METHOD:PUBLISH
PRODID::-//Obvius//NONSGML ICal//DA
BEGIN:VEVENT
UID:3321284@www.math.ku.dk
DESCRIPTION:Title: An Introduction to a Picture Language Program.\n\nhttp
 s://www.math.ku.dk/english/calendar/events/gamp-seminar-jaffe-march-2019/
SUMMARY:GAMP-OpAlg seminar by Arthur Jaffe (Harvard)
CATEGORIES:seminar
LOCATION:Auditorium 4 (H.C. Ørsted Institute\, Universitetsparken 5) 
ORGANIZER:GAMP (Niels Martin Møller) & OpAlg (Magdalena Musat)
DTSTART:20190319T111500Z
DTSTAMP:20190319T111500Z
DTEND:20190319T120000Z
END:VEVENT
END:VCALENDAR
