BEGIN:VCALENDAR
VERSION:2.0
METHOD:PUBLISH
PRODID::-//Obvius//NONSGML ICal//DA
BEGIN:VEVENT
UID:3229140@www.math.ku.dk
DESCRIPTION:CANCELLED - Title: From analysis to algebra to geometry - an 
 example in representation theory of real groups\n\nhttps://www.math.ku.dk/
 english/calendar/events/gamp-seminar-yomdin-dec-2018/
SUMMARY:CANCELLED - GAMP seminar by Alexander Yom Din (Caltech)
CATEGORIES:seminar
LOCATION:Auditorium 7 (H.C. Ørsted Institute\, Universitetsparken 5)
ORGANIZER:GAMP (Niels Martin Møller)
DTSTART:20181217T111500Z
DTSTAMP:20181217T111500Z
DTEND:20181217T120000Z
END:VEVENT
END:VCALENDAR
