BEGIN:VCALENDAR
VERSION:2.0
METHOD:PUBLISH
PRODID::-//Obvius//NONSGML ICal//DA
BEGIN:VEVENT
UID:4618524@www.math.ku.dk
DESCRIPTION:Recent Progress on Singularity Analysis and Applications of th
 e Mean Curvature Flow.\n\nhttps://www.math.ku.dk/english/calendar/events/m
 ean-curvature-flow-2024/
SUMMARY:Masterclass: Recent Progress on Singularity Analysis [...] Mean Cu
 rvature Flow
CATEGORIES:Konference
LOCATION:Dept. of Mathematical Sciences\, Universitetsparken 5\, 2100 Cope
 nhagen
ORGANIZER:GeoTop - MATH
DTSTART:20240429T070000Z
DTSTAMP:20240429T070000Z
DTEND:20240503T150000Z
END:VEVENT
END:VCALENDAR
