BEGIN:VCALENDAR
VERSION:2.0
METHOD:PUBLISH
PRODID::-//Obvius//NONSGML ICal//DA
BEGIN:VEVENT
UID:3831755@www.math.ku.dk
DESCRIPTION:Speaker: Ori Parzanchevski (HUJI)\nTitle: From Ramanujan grap
 hs to quantum computations\n\nhttps://www.math.ku.dk/english/calendar/even
 ts/nt-seminar-ori-parzan/
SUMMARY:Number Theory Seminar
CATEGORIES:Seminar
LOCATION:Zoom meeting
ORGANIZER:Jasmin Matz
DTSTART:20201204T120000Z
DTSTAMP:20201204T120000Z
DTEND:20201204T130000Z
END:VEVENT
END:VCALENDAR
