BEGIN:VCALENDAR
VERSION:2.0
METHOD:PUBLISH
PRODID::-//Obvius//NONSGML ICal//DA
BEGIN:VEVENT
UID:4701323@www.math.ku.dk
DESCRIPTION:Number Theory Seminar: Harald Grobner\n\nhttps://www.math.ku.d
 k/english/calendar/events/number-theory-seminar-harald-grobner/
SUMMARY:Number Theory Seminar
CATEGORIES:Seminar
LOCATION:04-4-01
ORGANIZER:Adel Betina
DTSTART:20240510T090000Z
DTSTAMP:20240510T090000Z
DTEND:20240510T100000Z
END:VEVENT
END:VCALENDAR
