BEGIN:VCALENDAR
VERSION:2.0
METHOD:PUBLISH
PRODID::-//Obvius//NONSGML ICal//DA
BEGIN:VEVENT
UID:2164687@www.math.ku.dk
DESCRIPTION:Seminar given by Kenro Furutani (Tokyo University of Science) 
 on: "A co-dimension 3 sub-Riemannian structure on Gromoll-Meyer exotic sph
 ere"\n\nhttps://www.math.ku.dk/english/calendar/events/oa-seminar-furutani
 /
SUMMARY:Operator algebra seminar
LOCATION:Aud 8.
ORGANIZER:C. Cave
DTSTART:20160713T131500Z
DTSTAMP:20160713T131500Z
DTEND:20160713T141500Z
END:VEVENT
END:VCALENDAR
