BEGIN:VCALENDAR
VERSION:2.0
METHOD:PUBLISH
PRODID::-//Obvius//NONSGML ICal//DA
BEGIN:VEVENT
UID:4541477@www.math.ku.dk
DESCRIPTION:Title: Dynamic Term Structure Modeling and the LIBOR Transiti
 on.\n\nhttps://www.math.ku.dk/english/calendar/events/phd-defense-jacob-bj
 erre-skov/
SUMMARY:PhD Defense Jacob Bjerre Skov
CATEGORIES:Ph.d.-forsvar
LOCATION:HCØ\, aud 4\, Universitetsparken 5\,2100 Copenhagen Ø
ORGANIZER:MATH
DTSTART:20230818T111500Z
DTSTAMP:20230818T111500Z
DTEND:20230817T220000Z
END:VEVENT
END:VCALENDAR
