BEGIN:VCALENDAR
VERSION:2.0
METHOD:PUBLISH
PRODID::-//Obvius//NONSGML ICal//DA
BEGIN:VEVENT
UID:4595296@www.math.ku.dk
DESCRIPTION:Title: Optimization in First-mile Ride-sharing Problems\n\nhtt
 ps://www.math.ku.dk/english/calendar/events/phd-defense-jinwen-ye/
SUMMARY:PhD Defense Jinwen Ye
CATEGORIES:Ph.d.-forsvar
LOCATION:AB Teori 1\, Nørre alle 55\, 2100 Copenhagen 2100 Ø
ORGANIZER:MATH
DTSTART:20231124T090000Z
DTSTAMP:20231124T090000Z
DTEND:20231123T230000Z
END:VEVENT
END:VCALENDAR
