BEGIN:VCALENDAR
VERSION:2.0
METHOD:PUBLISH
PRODID::-//Obvius//NONSGML ICal//DA
BEGIN:VEVENT
UID:4407828@www.math.ku.dk
DESCRIPTION:Title: Multi-Population Mortality Models and Scenario-Based Pr
 ojections\n\nhttps://www.math.ku.dk/english/calendar/events/phd-defense-sn
 orre-jallbjoern/
SUMMARY:PhD Defense Snorre Jallbjørn
CATEGORIES:Ph.d.-forsvar
LOCATION:HCØ\, auditorium 3\, Universitetsparken 5\, 2100 Copenhagen Ø
ORGANIZER:MATH
DTSTART:20230120T121500Z
DTSTAMP:20230120T121500Z
DTEND:20230119T230000Z
END:VEVENT
END:VCALENDAR
