BEGIN:VCALENDAR
VERSION:2.0
METHOD:PUBLISH
PRODID::-//Obvius//NONSGML ICal//DA
BEGIN:VEVENT
UID:2667167@www.math.ku.dk
DESCRIPTION:Analysis of Heavy-Tailed Time Series\n\nhttps://www.math.ku.dk
 /english/calendar/events/phd-defense-xiaolei-xie/
SUMMARY:PhD Defense by Xiaolei Xie 
LOCATION:HCØ\, aud 4\, Universitetsparken 5\, 2100 København Ø
ORGANIZER:MATH
DTSTART:20170929T121500Z
DTSTAMP:20170929T121500Z
DTEND:20170928T220000Z
END:VEVENT
END:VCALENDAR
