BEGIN:VCALENDAR
VERSION:2.0
METHOD:PUBLISH
PRODID::-//Obvius//NONSGML ICal//DA
BEGIN:VEVENT
UID:4308617@www.math.ku.dk
DESCRIPTION:SPEAKER: Hansjörg Albrecher (University of Lausanne).\n\nhttp
 s://www.math.ku.dk/english/calendar/events/seminar-in-ie-oct-22/
SUMMARY:Optimal ratcheting of dividends in insurance
CATEGORIES:Seminar
LOCATION:Aud 5
ORGANIZER:Mogens Bladt & Christian Furrer
DTSTART:20221006T131500Z
DTSTAMP:20221006T131500Z
DTEND:20221006T141500Z
END:VEVENT
END:VCALENDAR
