BEGIN:VCALENDAR
VERSION:2.0
METHOD:PUBLISH
PRODID::-//Obvius//NONSGML ICal//DA
BEGIN:VEVENT
UID:4914608@www.math.ku.dk
DESCRIPTION:Mark your calendar on Tuesday 25 April. 2025\, when UCPH Quant
 um Hub is hosting the Quantum Hub Annual Meeting. \n\nhttps://www.math.ku
 .dk/english/calendar/events/ucph-quantum-hub-annual-meeting/
SUMMARY:UCPH Quantum Hub Annual Meeting
CATEGORIES:Event
LOCATION:HCØ\, Aud. 3 og Vandrehallen Universitetsparken 5\, Nørre Campu
 s\, UCPH
ORGANIZER:UCPH Quantum Hub
DTSTART:20250425T120000Z
DTSTAMP:20250425T120000Z
DTEND:20250425T160000Z
END:VEVENT
END:VCALENDAR
