BEGIN:VCALENDAR
VERSION:2.0
METHOD:PUBLISH
PRODID::-//Obvius//NONSGML ICal//DA
BEGIN:VEVENT
UID:4679477@www.math.ku.dk
DESCRIPTION:Title: Fairness in machine learning: a study of the Demograph
 ic Parity constraint\nSpeaker: Nicolas Schreuder from CNRS\n\nhttps://www
 .math.ku.dk/english/calendar/events/ucph-statistics-seminar-nicolas-schreu
 der/
SUMMARY:UCPH Statistics Seminar: Nicolas Schreuder
LOCATION:Aud 6\, Universitetsparken 5\, HCØ
DTSTART:20240411T131500Z
DTSTAMP:20240411T131500Z
END:VEVENT
END:VCALENDAR
