BEGIN:VCALENDAR
VERSION:2.0
METHOD:PUBLISH
PRODID::-//Obvius//NONSGML ICal//DA
BEGIN:VEVENT
UID:4332266@www.math.ku.dk
DESCRIPTION:Speaker: Sara Magliacane from the University of Amsterdam\n\nh
 ttps://www.math.ku.dk/english/calendar/events/ucph-statistics-seminar-sara
 -magliacane/
SUMMARY:UCPH Statistics Seminar: Sara Magliacane
LOCATION:Aud 8\, Universitetsparken 5\, HCØ
DTSTART:20221110T141500Z
DTSTAMP:20221110T141500Z
END:VEVENT
END:VCALENDAR
